BEGIN:VCALENDAR
VERSION:2.0
PRODID:-//NVDE - Nederlandse Vereniging Duurzame Energie - ECPv6.15.20//NONSGML v1.0//EN
CALSCALE:GREGORIAN
METHOD:PUBLISH
X-WR-CALNAME:NVDE - Nederlandse Vereniging Duurzame Energie
X-ORIGINAL-URL:https://www.nvde.nl
X-WR-CALDESC:Evenementen voor NVDE - Nederlandse Vereniging Duurzame Energie
REFRESH-INTERVAL;VALUE=DURATION:PT1H
X-Robots-Tag:noindex
X-PUBLISHED-TTL:PT1H
BEGIN:VTIMEZONE
TZID:Europe/Amsterdam
BEGIN:DAYLIGHT
TZOFFSETFROM:+0100
TZOFFSETTO:+0200
TZNAME:CEST
DTSTART:20240331T010000
END:DAYLIGHT
BEGIN:STANDARD
TZOFFSETFROM:+0200
TZOFFSETTO:+0100
TZNAME:CET
DTSTART:20241027T010000
END:STANDARD
BEGIN:DAYLIGHT
TZOFFSETFROM:+0100
TZOFFSETTO:+0200
TZNAME:CEST
DTSTART:20250330T010000
END:DAYLIGHT
BEGIN:STANDARD
TZOFFSETFROM:+0200
TZOFFSETTO:+0100
TZNAME:CET
DTSTART:20251026T010000
END:STANDARD
BEGIN:DAYLIGHT
TZOFFSETFROM:+0100
TZOFFSETTO:+0200
TZNAME:CEST
DTSTART:20260329T010000
END:DAYLIGHT
BEGIN:STANDARD
TZOFFSETFROM:+0200
TZOFFSETTO:+0100
TZNAME:CET
DTSTART:20261025T010000
END:STANDARD
END:VTIMEZONE
BEGIN:VEVENT
DTSTART;TZID=Europe/Amsterdam:20250206T150000
DTEND;TZID=Europe/Amsterdam:20250206T160000
DTSTAMP:20260421T121614
CREATED:20250123T112511Z
LAST-MODIFIED:20250129T152405Z
UID:17515-1738854000-1738857600@www.nvde.nl
SUMMARY:Webinar 'Hoe betrek je de vertrouwde kring van huurders in energiearmoede?’
DESCRIPTION:Wie is de vertrouwde kring van de huurder? Hoe kom je daarmee in contact? Hoe betrek je sleutelpersonen bij je lokale energiehulporganisatie? Wat zijn de do’s en don’ts bij het benaderen van en samenwerken met de vertrouwde kring? Op deze en jullie vragen gaan wij in tijdens het webinar op 6 februari om 15 uur.
URL:https://milieucentraal.activehosted.com/f/29?s=1503d00b6fd7acfe710b0805d3af9e7c&#038;nl=4&#038;c=141&#038;m=187#new_tab
END:VEVENT
BEGIN:VEVENT
DTSTART;TZID=Europe/Amsterdam:20250211T143000
DTEND;TZID=Europe/Amsterdam:20250211T180000
DTSTAMP:20260421T121614
CREATED:20241223T105735Z
LAST-MODIFIED:20250128T145932Z
UID:17162-1739284200-1739296800@www.nvde.nl
SUMMARY:Demand Creation event
DESCRIPTION:
URL:https://www.nvde.nl/event-vraagcreatie/#new_tab
END:VEVENT
BEGIN:VEVENT
DTSTART;VALUE=DATE:20250213
DTEND;VALUE=DATE:20250214
DTSTAMP:20260421T121614
CREATED:20250210T084441Z
LAST-MODIFIED:20250210T084441Z
UID:17649-1739404800-1739491199@www.nvde.nl
SUMMARY:Netwerkbedrijven; samenwerken aan warmtebedrijven
DESCRIPTION:NPLW en publieke netwerkbedrijven organiseren deze sessie voor ambtenaren betrokken bij de warmtetransitie. Samen met gemeenten\, EBN en provincies zetten we concrete stappen richting duurzame warmteoplossingen.
URL:https://www.nplw.nl/agenda/kennismiddag-samenwerken-met-publieke-netwerkbedrijven?utm_source=Laposta&#038;utm_campaign=Energie+Samen+nieuwsbrief+januari+2025+%28kopie%29&#038;utm_medium=email#new_tab
END:VEVENT
BEGIN:VEVENT
DTSTART;TZID=Europe/Amsterdam:20250213T170000
DTEND;TZID=Europe/Amsterdam:20250213T170000
DTSTAMP:20260421T121614
CREATED:20250129T122417Z
LAST-MODIFIED:20250129T151952Z
UID:17571-1739466000-1739466000@www.nvde.nl
SUMMARY:Informatiebijeenkomst call voor het thema Waterstof en groene elektronen voor speciale en fijnchemie
DESCRIPTION:GroenvermogenNL en NWO organiseren een informatiebijeenkomst over de call. NWO opent op 4 februari 2025 de call voor het thema Waterstof en groene elektronen voor speciale en fijnchemie. Tijdens deze bijeenkomst krijgen deelnemers alle informatie over de call en deelname aan het R&D-consortium.
URL:https://groenvermogennl.org/event/informatiebijeenkomst-groenvermogennl-rd-thema-6/#new_tab
END:VEVENT
BEGIN:VEVENT
DTSTART;VALUE=DATE:20250217
DTEND;VALUE=DATE:20250311
DTSTAMP:20260421T121614
CREATED:20250227T130321Z
LAST-MODIFIED:20250227T130321Z
UID:17797-1739750400-1741651199@www.nvde.nl
SUMMARY:Circo Track Offshore Windparken
DESCRIPTION:BlueCity\, NedZero\, TKI Offshore en ECHT organiseren een track voor hets stimuleren van circulair (her)ontwerp in de maakindustrie.
URL:https://topsectorenergie.nl/nl/agenda/circo-track-offshore-windparken/#new_tab
END:VEVENT
BEGIN:VEVENT
DTSTART;TZID=Europe/Amsterdam:20250219T150000
DTEND;TZID=Europe/Amsterdam:20250219T163000
DTSTAMP:20260421T121614
CREATED:20250131T144750Z
LAST-MODIFIED:20250131T144750Z
UID:17604-1739977200-1739982600@www.nvde.nl
SUMMARY:Online Inspiratietour: Kansen in verduurzaming van lagetemperatuurwarmte
DESCRIPTION:Ben jij benieuwd naar de verduurzamingskansen van lagetempertatuurwarmte voor jouw bedrijf? 80% van de energiebehoefte van de industrie betreft warmte. 40% daarvan is lagetemperatuurwarmte. Laat je gratis informeren over energiebesparende technieken en duurzame alternatieven voor fossiele opwekking van lagetemperatuurwarmte (tot 200°C).
URL:https://www.verduurzamingindustrie.nl/actueel/agenda/2976171.aspx?t=Online-Inspiratietour-Kansen-in-verduurzaming-van-lagetemperatuurwarmte#tab=acceptedTab#new_tab
END:VEVENT
BEGIN:VEVENT
DTSTART;TZID=Europe/Amsterdam:20250220T080000
DTEND;TZID=Europe/Amsterdam:20250220T170000
DTSTAMP:20260421T121614
CREATED:20250220T084445Z
LAST-MODIFIED:20250220T084445Z
UID:17716-1740038400-1740070800@www.nvde.nl
SUMMARY:ERC event Developing value chains
DESCRIPTION:ERC event gehost door EBN en TNO. Samen verkennen hoe samenwerking en de juiste randvoorwaarden cruciaal zijn voor de ontwikkeling van waardeketens in waterstof\, warmte\, CCUS en circulaire materialen.
URL:https://www.energyreinventedcommunity.com/events/developing-value-chains#new_tab
END:VEVENT
BEGIN:VEVENT
DTSTART;VALUE=DATE:20250225
DTEND;VALUE=DATE:20250226
DTSTAMP:20260421T121614
CREATED:20250218T104936Z
LAST-MODIFIED:20250218T104936Z
UID:17705-1740441600-1740527999@www.nvde.nl
SUMMARY:Slotevenement SmoothEMS met Grindshield
DESCRIPTION:Het project SmoothEMS met Gridshield wordt officieel afgerond. Wat zijn de inzichten\, lessen en voordelen uit het onderzoek en de fieldlab-testen?
URL:https://nederlandelektrisch.nl/agenda/i2776/slotevenement-smoothems-met-gridshield?utm_source=Nederland%20Elektrisch&#038;utm_campaign=a9429a8bd0-NederlandElektrisch.nl%20%7C%20Nieuwsbrief%2028jan25_COPY_&#038;utm_medium=email&#038;utm_term=0_519f333c8b-a9429a8bd0-240269292&#038;mc_cid=a9429a8bd0&#038;mc_eid=2f57fd3591#new_tab
END:VEVENT
END:VCALENDAR