BEGIN:VCALENDAR
VERSION:2.0
PRODID:-//NVDE - Nederlandse Vereniging Duurzame Energie - ECPv6.15.20//NONSGML v1.0//EN
CALSCALE:GREGORIAN
METHOD:PUBLISH
X-ORIGINAL-URL:https://www.nvde.nl
X-WR-CALDESC:Evenementen voor NVDE - Nederlandse Vereniging Duurzame Energie
REFRESH-INTERVAL;VALUE=DURATION:PT1H
X-Robots-Tag:noindex
X-PUBLISHED-TTL:PT1H
BEGIN:VTIMEZONE
TZID:Europe/Amsterdam
BEGIN:DAYLIGHT
TZOFFSETFROM:+0100
TZOFFSETTO:+0200
TZNAME:CEST
DTSTART:20250330T010000
END:DAYLIGHT
BEGIN:STANDARD
TZOFFSETFROM:+0200
TZOFFSETTO:+0100
TZNAME:CET
DTSTART:20251026T010000
END:STANDARD
BEGIN:DAYLIGHT
TZOFFSETFROM:+0100
TZOFFSETTO:+0200
TZNAME:CEST
DTSTART:20260329T010000
END:DAYLIGHT
BEGIN:STANDARD
TZOFFSETFROM:+0200
TZOFFSETTO:+0100
TZNAME:CET
DTSTART:20261025T010000
END:STANDARD
BEGIN:DAYLIGHT
TZOFFSETFROM:+0100
TZOFFSETTO:+0200
TZNAME:CEST
DTSTART:20270328T010000
END:DAYLIGHT
BEGIN:STANDARD
TZOFFSETFROM:+0200
TZOFFSETTO:+0100
TZNAME:CET
DTSTART:20271031T010000
END:STANDARD
END:VTIMEZONE
BEGIN:VEVENT
DTSTART;TZID=Europe/Amsterdam:20260305T120000
DTEND;TZID=Europe/Amsterdam:20260305T170000
DTSTAMP:20260421T103101
CREATED:20260204T114157Z
LAST-MODIFIED:20260210T134344Z
UID:20636-1772712000-1772730000@www.nvde.nl
SUMMARY:Kennisevenement: de invloed van AI op ons energiesysteem
DESCRIPTION:Artificial Intelligence (AI) ontwikkelt zich razendsnel en heeft een steeds grotere invloed op het energiesysteem. Werkt u met AI en wilt u uw kennis hierover verdiepen? Tijdens ons kennisevenement gaat u samen met nationale en internationale experts in op de mogelijke rol\, wisselwerking en invloed van AI in de energiesector.
URL:https://www.rvo.nl/evenementen/invloed-ai-op-energiesysteem?utm_uid=&#038;utm_content=permissions_1&#038;utm_campaign=20260203&#038;utm_source=nieuwsbrief_rvo&#038;utm_medium=email#new_tab
END:VEVENT
BEGIN:VEVENT
DTSTART;TZID=Europe/Amsterdam:20260305T133000
DTEND;TZID=Europe/Amsterdam:20260305T143000
DTSTAMP:20260421T103101
CREATED:20260210T115637Z
LAST-MODIFIED:20260210T125943Z
UID:20739-1772717400-1772721000@www.nvde.nl
SUMMARY:Webinar: risicoverdeling bij aanleg van warmtenetten
DESCRIPTION:
URL:https://warmtenetwerk.nl/agenda/item/webinar-risicoverdeling-bij-aanleg-van-warmtenetten/#new_tab
END:VEVENT
END:VCALENDAR