BEGIN:VCALENDAR
VERSION:2.0
PRODID:-//NVDE - Nederlandse Vereniging Duurzame Energie - ECPv6.15.20//NONSGML v1.0//EN
CALSCALE:GREGORIAN
METHOD:PUBLISH
X-ORIGINAL-URL:https://www.nvde.nl
X-WR-CALDESC:Evenementen voor NVDE - Nederlandse Vereniging Duurzame Energie
REFRESH-INTERVAL;VALUE=DURATION:PT1H
X-Robots-Tag:noindex
X-PUBLISHED-TTL:PT1H
BEGIN:VTIMEZONE
TZID:Europe/Amsterdam
BEGIN:DAYLIGHT
TZOFFSETFROM:+0100
TZOFFSETTO:+0200
TZNAME:CEST
DTSTART:20240331T010000
END:DAYLIGHT
BEGIN:STANDARD
TZOFFSETFROM:+0200
TZOFFSETTO:+0100
TZNAME:CET
DTSTART:20241027T010000
END:STANDARD
BEGIN:DAYLIGHT
TZOFFSETFROM:+0100
TZOFFSETTO:+0200
TZNAME:CEST
DTSTART:20250330T010000
END:DAYLIGHT
BEGIN:STANDARD
TZOFFSETFROM:+0200
TZOFFSETTO:+0100
TZNAME:CET
DTSTART:20251026T010000
END:STANDARD
BEGIN:DAYLIGHT
TZOFFSETFROM:+0100
TZOFFSETTO:+0200
TZNAME:CEST
DTSTART:20260329T010000
END:DAYLIGHT
BEGIN:STANDARD
TZOFFSETFROM:+0200
TZOFFSETTO:+0100
TZNAME:CET
DTSTART:20261025T010000
END:STANDARD
END:VTIMEZONE
BEGIN:VEVENT
DTSTART;TZID=Europe/Amsterdam:20250513T080000
DTEND;TZID=Europe/Amsterdam:20250515T170000
DTSTAMP:20260421T134547
CREATED:20241223T062139Z
LAST-MODIFIED:20250515T095947Z
UID:17134-1747123200-1747328400@www.nvde.nl
SUMMARY:Vakbeurs Renovatie & Transformatie
DESCRIPTION:De vakbeurs Renovatie & Transformatie – voorheen genaamd RENOVATIE – is hét live platform voor kennisdeling omtrent transformeren en renoveren. Duizenden professionals uit de bouwkolom en hun opdrachtgevers bezoeken deze voor informatie\, inspiratie\, ontmoeten en zakendoen.
URL:https://www.renovatiebeurs.nl/#new_tab
END:VEVENT
BEGIN:VEVENT
DTSTART;VALUE=DATE:20250514
DTEND;VALUE=DATE:20250515
DTSTAMP:20260421T134547
CREATED:20250422T070729Z
LAST-MODIFIED:20250422T070729Z
UID:18080-1747180800-1747267199@www.nvde.nl
SUMMARY:Congres energiesysteem en ruimte
DESCRIPTION:
URL:https://www.ruimtelijkeordening.nl/actueel/kalender/2025/05/14/congres-energiesysteem-en-ruimte#new_tab
END:VEVENT
END:VCALENDAR