BEGIN:VCALENDAR
VERSION:2.0
PRODID:-//NVDE - Nederlandse Vereniging Duurzame Energie - ECPv6.15.20//NONSGML v1.0//EN
CALSCALE:GREGORIAN
METHOD:PUBLISH
X-WR-CALNAME:NVDE - Nederlandse Vereniging Duurzame Energie
X-ORIGINAL-URL:https://www.nvde.nl
X-WR-CALDESC:Evenementen voor NVDE - Nederlandse Vereniging Duurzame Energie
REFRESH-INTERVAL;VALUE=DURATION:PT1H
X-Robots-Tag:noindex
X-PUBLISHED-TTL:PT1H
BEGIN:VTIMEZONE
TZID:Europe/Amsterdam
BEGIN:DAYLIGHT
TZOFFSETFROM:+0100
TZOFFSETTO:+0200
TZNAME:CEST
DTSTART:20240331T010000
END:DAYLIGHT
BEGIN:STANDARD
TZOFFSETFROM:+0200
TZOFFSETTO:+0100
TZNAME:CET
DTSTART:20241027T010000
END:STANDARD
BEGIN:DAYLIGHT
TZOFFSETFROM:+0100
TZOFFSETTO:+0200
TZNAME:CEST
DTSTART:20250330T010000
END:DAYLIGHT
BEGIN:STANDARD
TZOFFSETFROM:+0200
TZOFFSETTO:+0100
TZNAME:CET
DTSTART:20251026T010000
END:STANDARD
BEGIN:DAYLIGHT
TZOFFSETFROM:+0100
TZOFFSETTO:+0200
TZNAME:CEST
DTSTART:20260329T010000
END:DAYLIGHT
BEGIN:STANDARD
TZOFFSETFROM:+0200
TZOFFSETTO:+0100
TZNAME:CET
DTSTART:20261025T010000
END:STANDARD
END:VTIMEZONE
BEGIN:VEVENT
DTSTART;VALUE=DATE:20250422
DTEND;VALUE=DATE:20250423
DTSTAMP:20260420T203908
CREATED:20250403T073411Z
LAST-MODIFIED:20250403T073439Z
UID:18000-1745280000-1745366399@www.nvde.nl
SUMMARY:Online Inspiratietour Industriële flex als remedie tegen netcongestie
DESCRIPTION:
URL:https://www.verduurzamingindustrie.nl/actueel/agenda/3020491.aspx?t=Online-Inspiratietour-Industriele-flex-als-remedie-tegen-netcongestie&#038;utm_source=nieuwsbrief_pvi&#038;utm_medium=email&#038;utm_campaign=NieuwsbriefNPVI27mrt2025&#038;utm_uid=790edff4f78bfcf6ff94c2b49ffe532b669c012ff2f150d327cde744349d3cd7&#038;utm_content=permissions_16777216#new_tab
END:VEVENT
END:VCALENDAR