BEGIN:VCALENDAR
VERSION:2.0
PRODID:-//NVDE - Nederlandse Vereniging Duurzame Energie - ECPv6.15.20//NONSGML v1.0//EN
CALSCALE:GREGORIAN
METHOD:PUBLISH
X-ORIGINAL-URL:https://www.nvde.nl
X-WR-CALDESC:Evenementen voor NVDE - Nederlandse Vereniging Duurzame Energie
REFRESH-INTERVAL;VALUE=DURATION:PT1H
X-Robots-Tag:noindex
X-PUBLISHED-TTL:PT1H
BEGIN:VTIMEZONE
TZID:Europe/Amsterdam
BEGIN:DAYLIGHT
TZOFFSETFROM:+0100
TZOFFSETTO:+0200
TZNAME:CEST
DTSTART:20240331T010000
END:DAYLIGHT
BEGIN:STANDARD
TZOFFSETFROM:+0200
TZOFFSETTO:+0100
TZNAME:CET
DTSTART:20241027T010000
END:STANDARD
BEGIN:DAYLIGHT
TZOFFSETFROM:+0100
TZOFFSETTO:+0200
TZNAME:CEST
DTSTART:20250330T010000
END:DAYLIGHT
BEGIN:STANDARD
TZOFFSETFROM:+0200
TZOFFSETTO:+0100
TZNAME:CET
DTSTART:20251026T010000
END:STANDARD
BEGIN:DAYLIGHT
TZOFFSETFROM:+0100
TZOFFSETTO:+0200
TZNAME:CEST
DTSTART:20260329T010000
END:DAYLIGHT
BEGIN:STANDARD
TZOFFSETFROM:+0200
TZOFFSETTO:+0100
TZNAME:CET
DTSTART:20261025T010000
END:STANDARD
END:VTIMEZONE
BEGIN:VEVENT
DTSTART;VALUE=DATE:20250317
DTEND;VALUE=DATE:20250323
DTSTAMP:20260420T191834
CREATED:20250225T104405Z
LAST-MODIFIED:20250225T104405Z
UID:17773-1742169600-1742687999@www.nvde.nl
SUMMARY:Week van de Circulaire Economie 2025
DESCRIPTION:RVO Brengt ondernemers\, onderzoekers en organisaties samen met circulaire projecten aan de slag te gaan.
URL:https://www.rvo.nl/onderwerpen/week-circulaire-economie?utm_uid=&#038;utm_content=permissions_1&#038;utm_campaign=20250211&#038;utm_source=nieuwsbrief_rvo&#038;utm_medium=email#new_tab
END:VEVENT
END:VCALENDAR