BEGIN:VCALENDAR
VERSION:2.0
PRODID:-//NVDE - Nederlandse Vereniging Duurzame Energie - ECPv6.15.20//NONSGML v1.0//EN
CALSCALE:GREGORIAN
METHOD:PUBLISH
X-WR-CALNAME:NVDE - Nederlandse Vereniging Duurzame Energie
X-ORIGINAL-URL:https://www.nvde.nl
X-WR-CALDESC:Evenementen voor NVDE - Nederlandse Vereniging Duurzame Energie
REFRESH-INTERVAL;VALUE=DURATION:PT1H
X-Robots-Tag:noindex
X-PUBLISHED-TTL:PT1H
BEGIN:VTIMEZONE
TZID:Europe/Amsterdam
BEGIN:DAYLIGHT
TZOFFSETFROM:+0100
TZOFFSETTO:+0200
TZNAME:CEST
DTSTART:20240331T010000
END:DAYLIGHT
BEGIN:STANDARD
TZOFFSETFROM:+0200
TZOFFSETTO:+0100
TZNAME:CET
DTSTART:20241027T010000
END:STANDARD
BEGIN:DAYLIGHT
TZOFFSETFROM:+0100
TZOFFSETTO:+0200
TZNAME:CEST
DTSTART:20250330T010000
END:DAYLIGHT
BEGIN:STANDARD
TZOFFSETFROM:+0200
TZOFFSETTO:+0100
TZNAME:CET
DTSTART:20251026T010000
END:STANDARD
BEGIN:DAYLIGHT
TZOFFSETFROM:+0100
TZOFFSETTO:+0200
TZNAME:CEST
DTSTART:20260329T010000
END:DAYLIGHT
BEGIN:STANDARD
TZOFFSETFROM:+0200
TZOFFSETTO:+0100
TZNAME:CET
DTSTART:20261025T010000
END:STANDARD
END:VTIMEZONE
BEGIN:VEVENT
DTSTART;VALUE=DATE:20250311
DTEND;VALUE=DATE:20250314
DTSTAMP:20260421T024836
CREATED:20250211T122031Z
LAST-MODIFIED:20250211T122031Z
UID:17655-1741651200-1741910399@www.nvde.nl
SUMMARY:Solar Solutions Amsterdam
DESCRIPTION:Ontdek de nieuwste technologische innovaties op het gebied van hernieuwbare energie op de vakbeurs Solar Solutions Amsterdam.
URL:https://www.solarsolutions.nl/gratis-tickets/?invitation=EXPERT25&#038;gad_source=1&#038;gbraid=0AAAAACqIiUtftvLlcxIElUc_QCbxp27gc&#038;gclid=CjwKCAiAh6y9BhBREiwApBLHCwd35HojPoc1ApIbt2KdEemSnTwSrt3_1sx7woDZjGJc8E94IvGVbhoCpZcQAvD_BwE#new_tab
END:VEVENT
BEGIN:VEVENT
DTSTART;TZID=Europe/Amsterdam:20250312T140000
DTEND;TZID=Europe/Amsterdam:20250312T173000
DTSTAMP:20260421T024836
CREATED:20250122T143907Z
LAST-MODIFIED:20250217T082830Z
UID:17507-1741788000-1741800600@www.nvde.nl
SUMMARY:Het Energietransitie Feiten-Symposium
DESCRIPTION:De NVDE\, KVGN en NEC slaan de handen ineen om u de cijfers van de energietransitie te laten zien\, voorbij de beeldvorming. Met Olof van der Gaag\, Jaco Stremler\, Martien Visser\,  Irina Patrahau.
URL:https://www.nvde.nl/het-energietransitie-feiten-symposium/#new_tab
END:VEVENT
END:VCALENDAR