BEGIN:VCALENDAR
VERSION:2.0
PRODID:-//NVDE - Nederlandse Vereniging Duurzame Energie - ECPv6.15.20//NONSGML v1.0//EN
CALSCALE:GREGORIAN
METHOD:PUBLISH
X-ORIGINAL-URL:https://www.nvde.nl
X-WR-CALDESC:Evenementen voor NVDE - Nederlandse Vereniging Duurzame Energie
REFRESH-INTERVAL;VALUE=DURATION:PT1H
X-Robots-Tag:noindex
X-PUBLISHED-TTL:PT1H
BEGIN:VTIMEZONE
TZID:Europe/Amsterdam
BEGIN:DAYLIGHT
TZOFFSETFROM:+0100
TZOFFSETTO:+0200
TZNAME:CEST
DTSTART:20240331T010000
END:DAYLIGHT
BEGIN:STANDARD
TZOFFSETFROM:+0200
TZOFFSETTO:+0100
TZNAME:CET
DTSTART:20241027T010000
END:STANDARD
BEGIN:DAYLIGHT
TZOFFSETFROM:+0100
TZOFFSETTO:+0200
TZNAME:CEST
DTSTART:20250330T010000
END:DAYLIGHT
BEGIN:STANDARD
TZOFFSETFROM:+0200
TZOFFSETTO:+0100
TZNAME:CET
DTSTART:20251026T010000
END:STANDARD
BEGIN:DAYLIGHT
TZOFFSETFROM:+0100
TZOFFSETTO:+0200
TZNAME:CEST
DTSTART:20260329T010000
END:DAYLIGHT
BEGIN:STANDARD
TZOFFSETFROM:+0200
TZOFFSETTO:+0100
TZNAME:CET
DTSTART:20261025T010000
END:STANDARD
END:VTIMEZONE
BEGIN:VEVENT
DTSTART;VALUE=DATE:20250130
DTEND;VALUE=DATE:20250131
DTSTAMP:20260426T042707
CREATED:20241129T075152Z
LAST-MODIFIED:20250129T151853Z
UID:16959-1738195200-1738281599@www.nvde.nl
SUMMARY:EP Congres 'Het energielabel van de toekomst'
DESCRIPTION:EPBD IV: de transitie naar een emissievrij gebouwenbestand in de gehele EU in 2050. Op het congres ‘Het energielabel van de toekomst’ hoor je de laatste ontwikkelingen: onmisbaar voor de EP adviseur.
URL:https://kader-academy.nl/actueel/epbd-iv-de-transitie-naar-een-emissievrij-gebouwenbestand-in-de-gehele-eu-in-2050#new_tab
END:VEVENT
END:VCALENDAR