BEGIN:VCALENDAR
VERSION:2.0
PRODID:-//NVDE - Nederlandse Vereniging Duurzame Energie - ECPv6.15.20//NONSGML v1.0//EN
CALSCALE:GREGORIAN
METHOD:PUBLISH
X-ORIGINAL-URL:https://www.nvde.nl
X-WR-CALDESC:Evenementen voor NVDE - Nederlandse Vereniging Duurzame Energie
REFRESH-INTERVAL;VALUE=DURATION:PT1H
X-Robots-Tag:noindex
X-PUBLISHED-TTL:PT1H
BEGIN:VTIMEZONE
TZID:Europe/Amsterdam
BEGIN:DAYLIGHT
TZOFFSETFROM:+0100
TZOFFSETTO:+0200
TZNAME:CEST
DTSTART:20240331T010000
END:DAYLIGHT
BEGIN:STANDARD
TZOFFSETFROM:+0200
TZOFFSETTO:+0100
TZNAME:CET
DTSTART:20241027T010000
END:STANDARD
BEGIN:DAYLIGHT
TZOFFSETFROM:+0100
TZOFFSETTO:+0200
TZNAME:CEST
DTSTART:20250330T010000
END:DAYLIGHT
BEGIN:STANDARD
TZOFFSETFROM:+0200
TZOFFSETTO:+0100
TZNAME:CET
DTSTART:20251026T010000
END:STANDARD
BEGIN:DAYLIGHT
TZOFFSETFROM:+0100
TZOFFSETTO:+0200
TZNAME:CEST
DTSTART:20260329T010000
END:DAYLIGHT
BEGIN:STANDARD
TZOFFSETFROM:+0200
TZOFFSETTO:+0100
TZNAME:CET
DTSTART:20261025T010000
END:STANDARD
END:VTIMEZONE
BEGIN:VEVENT
DTSTART;TZID=Europe/Amsterdam:20250127T103000
DTEND;TZID=Europe/Amsterdam:20250127T120000
DTSTAMP:20260426T045532
CREATED:20241223T101839Z
LAST-MODIFIED:20250108T113426Z
UID:17147-1737973800-1737979200@www.nvde.nl
SUMMARY:Innovation Fund National Info Day
DESCRIPTION:Ben je op zoek naar subsidie voor innovaties die uitstoot van broeikasgassen verminderen en bijna klaar zijn om op de markt te komen binnen de EU? Laat je informeren over de subsidiemogelijkheden van de nieuwe aanvraagronde voor het Innovation Fund van de Europese Commissie.
URL:https://www.rvo.nl/evenementen/innovation-fund-national-info-day#new_tab
END:VEVENT
END:VCALENDAR